BEGIN:VCALENDAR
VERSION:2.0
PRODID:-//Warrens, Wisconsin - ECPv5.14.0.4//NONSGML v1.0//EN
CALSCALE:GREGORIAN
METHOD:PUBLISH
X-WR-CALNAME:Warrens, Wisconsin
X-ORIGINAL-URL:https://visitwarrens.net
X-WR-CALDESC:Events for Warrens, Wisconsin
BEGIN:VTIMEZONE
TZID:America/Chicago
BEGIN:DAYLIGHT
TZOFFSETFROM:-0600
TZOFFSETTO:-0500
TZNAME:CDT
DTSTART:20220313T080000
END:DAYLIGHT
BEGIN:STANDARD
TZOFFSETFROM:-0500
TZOFFSETTO:-0600
TZNAME:CST
DTSTART:20221106T070000
END:STANDARD
END:VTIMEZONE
BEGIN:VEVENT
DTSTART;TZID=America/Chicago:20221028T190000
DTEND;TZID=America/Chicago:20221028T210000
DTSTAMP:20260424T143219
CREATED:20221026T013529Z
LAST-MODIFIED:20221026T013529Z
UID:2798-1666983600-1666990800@visitwarrens.net
SUMMARY:Halloween Bash
DESCRIPTION:The Warrens Area Youth Association’s Halloween Bash is Friday\, Oct. 28\, from 7 to 9 p.m.\, at the Warrens Lions Log Building. This year’s event is starting later so families can have dinner beforehand. Snacks and drinks will be served. Costume contest. Parents encouraged to dress up\, too. \nHalloween Bash
URL:https://visitwarrens.net/event/halloween-bash-3/
LOCATION:Warrens Community Building\, 720 Pine Street\, Warrens\, 54666\, United States
ATTACH;FMTTYPE=image/jpeg:https://visitwarrens.net/wp-content/uploads/2022/10/Halloween-Bash.jpg
ORGANIZER;CN="Warrens%20Area%20Youth%20Association":MAILTO:warrensyouth@gmail.com
END:VEVENT
END:VCALENDAR