BEGIN:VCALENDAR
VERSION:2.0
PRODID:-//Warrens, Wisconsin - ECPv5.14.0.4//NONSGML v1.0//EN
CALSCALE:GREGORIAN
METHOD:PUBLISH
X-WR-CALNAME:Warrens, Wisconsin
X-ORIGINAL-URL:http://visitwarrens.net
X-WR-CALDESC:Events for Warrens, Wisconsin
BEGIN:VTIMEZONE
TZID:America/Chicago
BEGIN:DAYLIGHT
TZOFFSETFROM:-0600
TZOFFSETTO:-0500
TZNAME:CDT
DTSTART:20220313T080000
END:DAYLIGHT
BEGIN:STANDARD
TZOFFSETFROM:-0500
TZOFFSETTO:-0600
TZNAME:CST
DTSTART:20221106T070000
END:STANDARD
END:VTIMEZONE
BEGIN:VEVENT
DTSTART;TZID=America/Chicago:20220810T160000
DTEND;TZID=America/Chicago:20220810T180000
DTSTAMP:20260419T185357
CREATED:20220727T153214Z
LAST-MODIFIED:20220727T153215Z
UID:2722-1660147200-1660154400@visitwarrens.net
SUMMARY:Warrens Community Meal
DESCRIPTION:The next Warrens Community Meal is Wednesday\, Aug. 10\, from 4 to 6 p.m.\, at the Warrens Lions Log Building. \nThe menu includes pork chop sandwiches and all the fixin’s Watch the Warrens Community Meals Facebook page for menu updates as it become finalized. \nThe meals are free. Free-will donations are accepted to help offset the cost of the food. \nWarrens Community Meal
URL:http://visitwarrens.net/event/warrens-community-meal-35/
LOCATION:Warrens Community Building\, 720 Pine Street\, Warrens\, 54666\, United States
ATTACH;FMTTYPE=image/jpeg:https://visitwarrens.net/wp-content/uploads/2018/03/Community-Meal-images.jpg
END:VEVENT
END:VCALENDAR