BEGIN:VCALENDAR
VERSION:2.0
PRODID:-//Warrens, Wisconsin - ECPv5.14.0.4//NONSGML v1.0//EN
CALSCALE:GREGORIAN
METHOD:PUBLISH
X-WR-CALNAME:Warrens, Wisconsin
X-ORIGINAL-URL:http://visitwarrens.net
X-WR-CALDESC:Events for Warrens, Wisconsin
BEGIN:VTIMEZONE
TZID:America/Chicago
BEGIN:DAYLIGHT
TZOFFSETFROM:-0600
TZOFFSETTO:-0500
TZNAME:CDT
DTSTART:20230312T080000
END:DAYLIGHT
BEGIN:STANDARD
TZOFFSETFROM:-0500
TZOFFSETTO:-0600
TZNAME:CST
DTSTART:20231105T070000
END:STANDARD
END:VTIMEZONE
BEGIN:VEVENT
DTSTART;TZID=America/Chicago:20231020T163000
DTEND;TZID=America/Chicago:20231020T190000
DTSTAMP:20260425T204435
CREATED:20231019T161304Z
LAST-MODIFIED:20231019T161304Z
UID:3079-1697819400-1697828400@visitwarrens.net
SUMMARY:St. Matthew Church Fall Soup Supper
DESCRIPTION:St. Matthew Lutheran Church is holding their annual Fall Soup Supper on Friday\, Oct. 20\, from 4:30 to 7 p.m.\, in the church Fellowship Hall. Choice of three soups\, salads\, bread sticks\, desserts and drinks. Cost is $10 for adults\, $5 for children ages 6 to 11\, and children 5 and younger eat for free. \nSt. Matthew Church Fall Soup Supper
URL:http://visitwarrens.net/event/st-matthew-church-fall-soup-supper/
LOCATION:St. Matthew Church\, 4285 U.S. Highway 12\, WARRENS\, WI\, 54666\, United States
END:VEVENT
END:VCALENDAR