BEGIN:VCALENDAR
VERSION:2.0
PRODID:-//Warrens, Wisconsin - ECPv5.14.0.4//NONSGML v1.0//EN
CALSCALE:GREGORIAN
METHOD:PUBLISH
X-WR-CALNAME:Warrens, Wisconsin
X-ORIGINAL-URL:http://visitwarrens.net
X-WR-CALDESC:Events for Warrens, Wisconsin
BEGIN:VTIMEZONE
TZID:America/Chicago
BEGIN:DAYLIGHT
TZOFFSETFROM:-0600
TZOFFSETTO:-0500
TZNAME:CDT
DTSTART:20180311T080000
END:DAYLIGHT
BEGIN:STANDARD
TZOFFSETFROM:-0500
TZOFFSETTO:-0600
TZNAME:CST
DTSTART:20181104T070000
END:STANDARD
END:VTIMEZONE
BEGIN:VEVENT
DTSTART;TZID=America/Chicago:20180515T170000
DTEND;TZID=America/Chicago:20180515T173000
DTSTAMP:20260425T063221
CREATED:20180512T130835Z
LAST-MODIFIED:20180512T130835Z
UID:1511-1526403600-1526405400@visitwarrens.net
SUMMARY:Sesquicentennial Celebration Kick-Off
DESCRIPTION:Warrens will kick off its Sesquicentennial Celebration at 5 p.m. on Tuesday\, May 15\, with the dedication of a 150th Anniversary Commemorative Area adjacent to the Wisconsin Cranberry Discovery Center in downtown Warrens. The event is the first of several planned over the next several months\, culminating during the Warrens Cranberry Festival. \nFor more information\, see our News & Information section. \nSesquicentennial Celebration Kick-Off
URL:http://visitwarrens.net/event/sesquicentennial-celebration-kick-off/
END:VEVENT
END:VCALENDAR