BEGIN:VCALENDAR
VERSION:2.0
PRODID:-//Warrens, Wisconsin - ECPv5.14.0.4//NONSGML v1.0//EN
CALSCALE:GREGORIAN
METHOD:PUBLISH
X-WR-CALNAME:Warrens, Wisconsin
X-ORIGINAL-URL:http://visitwarrens.net
X-WR-CALDESC:Events for Warrens, Wisconsin
BEGIN:VTIMEZONE
TZID:America/Chicago
BEGIN:DAYLIGHT
TZOFFSETFROM:-0600
TZOFFSETTO:-0500
TZNAME:CDT
DTSTART:20220313T080000
END:DAYLIGHT
BEGIN:STANDARD
TZOFFSETFROM:-0500
TZOFFSETTO:-0600
TZNAME:CST
DTSTART:20221106T070000
END:STANDARD
END:VTIMEZONE
BEGIN:VEVENT
DTSTART;VALUE=DATE:20220903
DTEND;VALUE=DATE:20220906
DTSTAMP:20260419T202300
CREATED:20220901T024234Z
LAST-MODIFIED:20220901T033212Z
UID:2741-1662163200-1662422399@visitwarrens.net
SUMMARY:Millston MDA Labor Day Softball Tournament
DESCRIPTION:The 41st Annual Millston MDA Labor Day Softball Tournament is Sept. 3-5. Sixteen-team double elimination softball tournament starts at 8 a.m. on Saturday. Other activities include a volleyball tournament\, bean bag tournament\, kids’ tractor pull\, live auction on Saturday\, pancake-and-sausage breakfast on Sunday\, sawdust pile and bounce house for the kids all weekend\, raffle and more. Proceeds from this three-day event supports the Muscular Dystrophy Association. Click here for more information. \nMillston MDA Labor Day Softball Tournament
URL:http://visitwarrens.net/event/millston-mda-labor-day-softball-tournament/
LOCATION:Millston\, Wisconsin\, W6621 US-12\, Millston\, WI 54643\, Millston\, WI\, 54643\, United States
END:VEVENT
END:VCALENDAR