BEGIN:VCALENDAR
VERSION:2.0
PRODID:-//Warrens, Wisconsin - ECPv5.14.0.4//NONSGML v1.0//EN
CALSCALE:GREGORIAN
METHOD:PUBLISH
X-WR-CALNAME:Warrens, Wisconsin
X-ORIGINAL-URL:http://visitwarrens.net
X-WR-CALDESC:Events for Warrens, Wisconsin
BEGIN:VTIMEZONE
TZID:America/Chicago
BEGIN:DAYLIGHT
TZOFFSETFROM:-0600
TZOFFSETTO:-0500
TZNAME:CDT
DTSTART:20250309T080000
END:DAYLIGHT
BEGIN:STANDARD
TZOFFSETFROM:-0500
TZOFFSETTO:-0600
TZNAME:CST
DTSTART:20251102T070000
END:STANDARD
END:VTIMEZONE
BEGIN:VEVENT
DTSTART;TZID=America/Chicago:20250215T110000
DTEND;TZID=America/Chicago:20250215T140000
DTSTAMP:20260419T234328
CREATED:20250125T211933Z
LAST-MODIFIED:20250125T211933Z
UID:3549-1739617200-1739628000@visitwarrens.net
SUMMARY:Chili Cook-Off
DESCRIPTION:The Millston Park Commission’s Annual Chili Cook-Off is Saturday\, Feb. 15\, from 11 a.m. to 2 p.m.\, at TK’s 400 Club. Categories for chili and soup. Also a bake sale and silent auction. Proceeds will be used towards the Millston July 3rd fireworks. \nChili Cook-Off
URL:http://visitwarrens.net/event/chili-cook-off/
LOCATION:TK’s 400 Club\, W6621 US Highway 12\, Millston\, WI\, 54643\, United States
ATTACH;FMTTYPE=image/jpeg:https://visitwarrens.net/wp-content/uploads/2025/01/istockphoto-165977053-612x612-1.jpg
END:VEVENT
END:VCALENDAR